BEGIN:VCALENDAR
VERSION:2.0
PRODID:icalendar-ruby
CALSCALE:GREGORIAN
METHOD:PUBLISH
BEGIN:VEVENT
DTSTAMP:20260422T202803Z
UID:75-770055@reschurchaz.com
DTSTART:20260530T010000Z
DTEND:20260530T033000Z
CLASS:PUBLIC
CREATED:20260418T183907
DESCRIPTION:The Resurrection Church High School and College Group\, Ignite\
 , meets once a month\, on  Friday\, from 6-8:30pm.  \n Bring your Bib
 le and your questions.  \nDinner and snacks will be served.  \nThis will
  be a great night of learning about Jesus!  \nInvite your friends.  \n 
 \nFor location information: Email info@ResChurchAZ.com or text 602-434-3
 345.
LAST-MODIFIED:20260418T183907
LOCATION:At the Core's
SUMMARY:IGNITE! Students Ministry
URL;VALUE=URI:https://reschurchaz.com/events/ignite-students-ministry--75/2
 026-05-29
ATTACH;FILENAME=Students-ministry-ignite.jpg;FMTTYPE=image/jpeg:https://dq5
 pwpg1q8ru0.cloudfront.net/2022/10/05/11/18/16/45d7971c-532c-4d30-a25d-72a4
 7811ffe8/Students-ministry-ignite.jpg
END:VEVENT
END:VCALENDAR
